BEGIN:VCALENDAR
VERSION:2.0
PRODID:-//CDTA30 - ECPv6.3.3.1//NONSGML v1.0//EN
CALSCALE:GREGORIAN
METHOD:PUBLISH
X-ORIGINAL-URL:https://www.cdta30.fr
X-WR-CALDESC:évènements pour CDTA30
REFRESH-INTERVAL;VALUE=DURATION:PT1H
X-Robots-Tag:noindex
X-PUBLISHED-TTL:PT1H
BEGIN:VTIMEZONE
TZID:Europe/Paris
BEGIN:DAYLIGHT
TZOFFSETFROM:+0100
TZOFFSETTO:+0200
TZNAME:CEST
DTSTART:20250330T010000
END:DAYLIGHT
BEGIN:STANDARD
TZOFFSETFROM:+0200
TZOFFSETTO:+0100
TZNAME:CET
DTSTART:20251026T010000
END:STANDARD
END:VTIMEZONE
BEGIN:VEVENT
DTSTART;VALUE=DATE:20250125
DTEND;VALUE=DATE:20250126
DTSTAMP:20260420T155630
CREATED:20241207T174115Z
LAST-MODIFIED:20241207T174555Z
UID:985-1737763200-1737849599@www.cdta30.fr
SUMMARY:Championnat du Gard - Jeunes - à Beaucaire
DESCRIPTION:Le CDTA30  vous informe que l’organisation du championnat du Gard de tir à 18m en salle JEUNES a lieu à Beaucaire:\nMandat: Mandat Chpt Gard 18m Jeune 2025
URL:https://www.cdta30.fr/event/championnat-du-gard-jeune-a-beaucaire/
LOCATION:BEAUCAIRE\, Gymnase Angelo Parisi\, Beaucaire\, France
CATEGORIES:TIR INTERIEUR
END:VEVENT
END:VCALENDAR