BEGIN:VCALENDAR
VERSION:2.0
PRODID:-//CDTA30 - ECPv6.3.3.1//NONSGML v1.0//EN
CALSCALE:GREGORIAN
METHOD:PUBLISH
X-ORIGINAL-URL:https://www.cdta30.fr
X-WR-CALDESC:évènements pour CDTA30
REFRESH-INTERVAL;VALUE=DURATION:PT1H
X-Robots-Tag:noindex
X-PUBLISHED-TTL:PT1H
BEGIN:VTIMEZONE
TZID:Europe/Paris
BEGIN:DAYLIGHT
TZOFFSETFROM:+0100
TZOFFSETTO:+0200
TZNAME:CEST
DTSTART:20250330T010000
END:DAYLIGHT
BEGIN:STANDARD
TZOFFSETFROM:+0200
TZOFFSETTO:+0100
TZNAME:CET
DTSTART:20251026T010000
END:STANDARD
END:VTIMEZONE
BEGIN:VEVENT
DTSTART;TZID=Europe/Paris:20250104T130000
DTEND;TZID=Europe/Paris:20250105T170000
DTSTAMP:20260420T155631
CREATED:20241207T171949Z
LAST-MODIFIED:20241207T171949Z
UID:971-1735995600-1736096400@www.cdta30.fr
SUMMARY:Concours Saint Christol Les Ales
DESCRIPTION:le mandat du concours du club de Saint Christol lez Ales :
URL:https://www.cdta30.fr/event/concours-saint-christol-les-ales/
LOCATION:SAINT-CHRISTOL-LES-ALES\, Foyer Sportif Chemin de Cabot\, St Christol lez Alès\, 30380
CATEGORIES:TIR INTERIEUR
ORGANIZER;CN="ARC CLUB SAINT CHRISTOL LES ALES":MAILTO:ac.stchristol@gmail.com
END:VEVENT
END:VCALENDAR