BEGIN:VCALENDAR
VERSION:2.0
PRODID:-//CDTA30 - ECPv6.3.3.1//NONSGML v1.0//EN
CALSCALE:GREGORIAN
METHOD:PUBLISH
X-ORIGINAL-URL:https://www.cdta30.fr
X-WR-CALDESC:évènements pour CDTA30
REFRESH-INTERVAL;VALUE=DURATION:PT1H
X-Robots-Tag:noindex
X-PUBLISHED-TTL:PT1H
BEGIN:VTIMEZONE
TZID:Europe/Paris
BEGIN:DAYLIGHT
TZOFFSETFROM:+0100
TZOFFSETTO:+0200
TZNAME:CEST
DTSTART:20240331T010000
END:DAYLIGHT
BEGIN:STANDARD
TZOFFSETFROM:+0200
TZOFFSETTO:+0100
TZNAME:CET
DTSTART:20241027T010000
END:STANDARD
END:VTIMEZONE
BEGIN:VEVENT
DTSTART;TZID=Europe/Paris:20241207T110000
DTEND;TZID=Europe/Paris:20241208T170000
DTSTAMP:20260420T173550
CREATED:20241207T171103Z
LAST-MODIFIED:20241207T171221Z
UID:965-1733569200-1733677200@www.cdta30.fr
SUMMARY:Concours en salle Nimes
DESCRIPTION:Le mandat du concours de Nîmes du mois de décembre    Mandat :Salle 7 et 8 DEC 24 (1)
URL:https://www.cdta30.fr/event/concours-en-salle-nimes-2/
LOCATION:NIMES\, TERRAIN MUNICIPAL DE TIR A L’ARC – STADE DE L’ASSOMPTION – RUE MARCEL PELLISSIER – NIMES\, NIMES\, 30000\, France
CATEGORIES:TIR INTERIEUR
END:VEVENT
END:VCALENDAR