BEGIN:VCALENDAR
VERSION:2.0
PRODID:-//CDTA30 - ECPv6.3.3.1//NONSGML v1.0//EN
CALSCALE:GREGORIAN
METHOD:PUBLISH
X-WR-CALNAME:CDTA30
X-ORIGINAL-URL:https://www.cdta30.fr
X-WR-CALDESC:évènements pour CDTA30
REFRESH-INTERVAL;VALUE=DURATION:PT1H
X-Robots-Tag:noindex
X-PUBLISHED-TTL:PT1H
BEGIN:VTIMEZONE
TZID:Europe/Paris
BEGIN:DAYLIGHT
TZOFFSETFROM:+0100
TZOFFSETTO:+0200
TZNAME:CEST
DTSTART:20220327T010000
END:DAYLIGHT
BEGIN:STANDARD
TZOFFSETFROM:+0200
TZOFFSETTO:+0100
TZNAME:CET
DTSTART:20221030T010000
END:STANDARD
END:VTIMEZONE
BEGIN:VEVENT
DTSTART;TZID=Europe/Paris:20221112T080000
DTEND;TZID=Europe/Paris:20221113T170000
DTSTAMP:20260422T093108
CREATED:20221008T162757Z
LAST-MODIFIED:20221008T162959Z
UID:366-1668240000-1668358800@www.cdta30.fr
SUMMARY:SAINT CHRISTOL LES ALES - Concours en salle 2x18 m - Sélectif pour les championnats de France
DESCRIPTION:MANDAT\n			\n			\n				\n				\n				\n				\n				\n				CONTACT
URL:https://www.cdta30.fr/event/saint-christol-les-ales-concours-en-salle-2x18-m-selectif-pour-les-championnats-de-france/
LOCATION:SAINT-CHRISTOL-LES-ALES\, Foyer Sportif Chemin de Cabot\, St Christol lez Alès\, 30380
CATEGORIES:TIR INTERIEUR
END:VEVENT
END:VCALENDAR