BEGIN:VCALENDAR
VERSION:2.0
PRODID:-//CDTA30 - ECPv6.3.3.1//NONSGML v1.0//EN
CALSCALE:GREGORIAN
METHOD:PUBLISH
X-WR-CALNAME:CDTA30
X-ORIGINAL-URL:https://www.cdta30.fr
X-WR-CALDESC:évènements pour CDTA30
REFRESH-INTERVAL;VALUE=DURATION:PT1H
X-Robots-Tag:noindex
X-PUBLISHED-TTL:PT1H
BEGIN:VTIMEZONE
TZID:Europe/Paris
BEGIN:DAYLIGHT
TZOFFSETFROM:+0100
TZOFFSETTO:+0200
TZNAME:CEST
DTSTART:20220327T010000
END:DAYLIGHT
BEGIN:STANDARD
TZOFFSETFROM:+0200
TZOFFSETTO:+0100
TZNAME:CET
DTSTART:20221030T010000
END:STANDARD
END:VTIMEZONE
BEGIN:VEVENT
DTSTART;TZID=Europe/Paris:20221105T134500
DTEND;TZID=Europe/Paris:20221106T170000
DTSTAMP:20260422T093047
CREATED:20221013T161431Z
LAST-MODIFIED:20221013T161434Z
UID:379-1667655900-1667754000@www.cdta30.fr
SUMMARY:Nimes - Concours en Salle - Sélectif pour les championnats de France.
DESCRIPTION:MANDAT\n			\n			\n				\n				\n				\n				\n				\n				CONTACT
URL:https://www.cdta30.fr/event/nimes-concours-en-salle-selectif-pour-les-championnats-de-france/
LOCATION:NIMES\, TERRAIN MUNICIPAL DE TIR A L’ARC – STADE DE L’ASSOMPTION – RUE MARCEL PELLISSIER – NIMES\, NIMES\, 30000\, France
CATEGORIES:TIR INTERIEUR
ATTACH;FMTTYPE=image/png:https://www.cdta30.fr/wp-content/uploads/2022/05/telechargement.png
END:VEVENT
END:VCALENDAR