BEGIN:VCALENDAR
VERSION:2.0
PRODID:-//CDTA30 - ECPv6.3.3.1//NONSGML v1.0//EN
CALSCALE:GREGORIAN
METHOD:PUBLISH
X-ORIGINAL-URL:https://www.cdta30.fr
X-WR-CALDESC:évènements pour CDTA30
REFRESH-INTERVAL;VALUE=DURATION:PT1H
X-Robots-Tag:noindex
X-PUBLISHED-TTL:PT1H
BEGIN:VTIMEZONE
TZID:Europe/Paris
BEGIN:DAYLIGHT
TZOFFSETFROM:+0100
TZOFFSETTO:+0200
TZNAME:CEST
DTSTART:20240331T010000
END:DAYLIGHT
BEGIN:STANDARD
TZOFFSETFROM:+0200
TZOFFSETTO:+0100
TZNAME:CET
DTSTART:20241027T010000
END:STANDARD
END:VTIMEZONE
BEGIN:VEVENT
DTSTART;VALUE=DATE:20241109
DTEND;VALUE=DATE:20241111
DTSTAMP:20260420T172221
CREATED:20241106T010612Z
LAST-MODIFIED:20241106T012212Z
UID:931-1731110400-1731283199@www.cdta30.fr
SUMMARY:Concours en salle - Arc Club de Nîmes
DESCRIPTION:(Ouvrir la page pour avoir accès au mandat en cliquant sur le titre) \nLe mandat du concours de Nîmes prévu le 9 et 10 novembre.\nMandat Nimes  9 et 10 NOV 24
URL:https://www.cdta30.fr/event/concours-en-salle-nimes/
LOCATION:NIMES\, TERRAIN MUNICIPAL DE TIR A L’ARC – STADE DE L’ASSOMPTION – RUE MARCEL PELLISSIER – NIMES\, NIMES\, 30000\, France
CATEGORIES:TIR INTERIEUR
END:VEVENT
BEGIN:VEVENT
DTSTART;VALUE=DATE:20241117
DTEND;VALUE=DATE:20241118
DTSTAMP:20260420T172221
CREATED:20241106T011618Z
LAST-MODIFIED:20241106T012111Z
UID:938-1731801600-1731887999@www.cdta30.fr
SUMMARY:Concours en salle - Arc Club Alésien
DESCRIPTION:(Ouvrir la page pour avoir accès au mandat en cliquant sur le titre) \nLe mandat du concours de Alès prévu le 17 novembre. \nAvis de concours St Privat 2024
URL:https://www.cdta30.fr/event/concours-en-salle-arc-club-alesien/
LOCATION:ALES\, Complexe sportif les Vaupiannes\, Saint Privat des vieux
CATEGORIES:TIR INTERIEUR
END:VEVENT
BEGIN:VEVENT
DTSTART;VALUE=DATE:20241123
DTEND;VALUE=DATE:20241125
DTSTAMP:20260420T172221
CREATED:20241106T012034Z
LAST-MODIFIED:20241106T012034Z
UID:942-1732320000-1732492799@www.cdta30.fr
SUMMARY:Concours en Salle - Arc Club de Saint-Christol-les-Ales
DESCRIPTION:(Ouvrir la page pour avoir accès au mandat en cliquant sur le titre) \nLe mandat du concours de Saint Christol Les Alès prévu le 23 et 24 novembre.
URL:https://www.cdta30.fr/event/concours-en-salle-arc-club-de-saint-christol-les-ales/
LOCATION:SAINT-CHRISTOL-LES-ALES\, Foyer Sportif Chemin de Cabot\, St Christol lez Alès\, 30380
CATEGORIES:TIR INTERIEUR
ORGANIZER;CN="ARC CLUB SAINT CHRISTOL LES ALES":MAILTO:ac.stchristol@gmail.com
END:VEVENT
END:VCALENDAR