BEGIN:VCALENDAR
VERSION:2.0
PRODID:-//CDTA30 - ECPv6.3.3.1//NONSGML v1.0//EN
CALSCALE:GREGORIAN
METHOD:PUBLISH
X-WR-CALNAME:CDTA30
X-ORIGINAL-URL:https://www.cdta30.fr
X-WR-CALDESC:évènements pour CDTA30
REFRESH-INTERVAL;VALUE=DURATION:PT1H
X-Robots-Tag:noindex
X-PUBLISHED-TTL:PT1H
BEGIN:VTIMEZONE
TZID:Europe/Paris
BEGIN:DAYLIGHT
TZOFFSETFROM:+0100
TZOFFSETTO:+0200
TZNAME:CEST
DTSTART:20220327T010000
END:DAYLIGHT
BEGIN:STANDARD
TZOFFSETFROM:+0200
TZOFFSETTO:+0100
TZNAME:CET
DTSTART:20221030T010000
END:STANDARD
END:VTIMEZONE
BEGIN:VEVENT
DTSTART;TZID=Europe/Paris:20221210T080000
DTEND;TZID=Europe/Paris:20221211T170000
DTSTAMP:20260422T055852
CREATED:20221105T160655Z
LAST-MODIFIED:20221105T162310Z
UID:392-1670659200-1670778000@www.cdta30.fr
SUMMARY:APC – Concours en Salle – Sélectif pour les championnats de France.
DESCRIPTION:MANDAT\n			\n				PLAN\n			\n			\n				\n				\n				\n				\n				\n				CONTACT
URL:https://www.cdta30.fr/event/apc-concours-en-salle-selectif-pour-les-championnats-de-france/
LOCATION:SAINT LAURENT D’AIGOUZE\, Complexe sportif Jacques Duclos - Boulevard Alexandra David Néel\, SAINT LAURENT D’AIGOUZE\, 30220\, France
CATEGORIES:TIR INTERIEUR
ORGANIZER;CN="APC- ARCHERS PETITE CAMARGUE":MAILTO:archersdepetitecamargue@sfr.fr
END:VEVENT
END:VCALENDAR