BEGIN:VCALENDAR
VERSION:2.0
PRODID:-//CDTA30 - ECPv6.3.3.1//NONSGML v1.0//EN
CALSCALE:GREGORIAN
METHOD:PUBLISH
X-WR-CALNAME:CDTA30
X-ORIGINAL-URL:https://www.cdta30.fr
X-WR-CALDESC:évènements pour CDTA30
REFRESH-INTERVAL;VALUE=DURATION:PT1H
X-Robots-Tag:noindex
X-PUBLISHED-TTL:PT1H
BEGIN:VTIMEZONE
TZID:Europe/Paris
BEGIN:DAYLIGHT
TZOFFSETFROM:+0100
TZOFFSETTO:+0200
TZNAME:CEST
DTSTART:20220327T010000
END:DAYLIGHT
BEGIN:STANDARD
TZOFFSETFROM:+0200
TZOFFSETTO:+0100
TZNAME:CET
DTSTART:20221030T010000
END:STANDARD
END:VTIMEZONE
BEGIN:VEVENT
DTSTART;VALUE=DATE:20220622
DTEND;VALUE=DATE:20220623
DTSTAMP:20260422T144932
CREATED:20220523T200515Z
LAST-MODIFIED:20220523T200518Z
UID:310-1655856000-1655942399@www.cdta30.fr
SUMMARY:NIMES - TAE Distances Olympiques qualificatif Championnat de France
DESCRIPTION:MANDAT\n			\n			\n				\n				\n				\n				\n				\n				CONTACT
URL:https://www.cdta30.fr/event/manduel-tae-qualificatif-championnat-de-france-2/
LOCATION:NIMES\, TERRAIN MUNICIPAL DE TIR A L’ARC – STADE DE L’ASSOMPTION – RUE MARCEL PELLISSIER – NIMES\, NIMES\, 30000\, France
CATEGORIES:TAE
ATTACH;FMTTYPE=image/png:https://www.cdta30.fr/wp-content/uploads/2022/05/telechargement.png
END:VEVENT
END:VCALENDAR