BEGIN:VCALENDAR
VERSION:2.0
PRODID:-//CDTA30 - ECPv6.3.3.1//NONSGML v1.0//EN
CALSCALE:GREGORIAN
METHOD:PUBLISH
X-ORIGINAL-URL:https://www.cdta30.fr
X-WR-CALDESC:évènements pour CDTA30
REFRESH-INTERVAL;VALUE=DURATION:PT1H
X-Robots-Tag:noindex
X-PUBLISHED-TTL:PT1H
BEGIN:VTIMEZONE
TZID:Europe/Paris
BEGIN:DAYLIGHT
TZOFFSETFROM:+0100
TZOFFSETTO:+0200
TZNAME:CEST
DTSTART:20220327T010000
END:DAYLIGHT
BEGIN:STANDARD
TZOFFSETFROM:+0200
TZOFFSETTO:+0100
TZNAME:CET
DTSTART:20221030T010000
END:STANDARD
END:VTIMEZONE
BEGIN:VEVENT
DTSTART;VALUE=DATE:20220619
DTEND;VALUE=DATE:20220620
DTSTAMP:20260422T142834
CREATED:20220512T175610Z
LAST-MODIFIED:20220531T180956Z
UID:276-1655596800-1655683199@www.cdta30.fr
SUMMARY:MANDUEL- TAE Qualificatif Championnat de France
DESCRIPTION:MANDAT\n			\n			\n				\n				\n				\n				\n				\n				CONTACT
URL:https://www.cdta30.fr/event/manduel-tae-qualificatif-championnat-de-france/
LOCATION:Manduel\, ARC CLUB DE MANDUEL\, MANDUEL\, France
CATEGORIES:TAE
ATTACH;FMTTYPE=image/png:https://www.cdta30.fr/wp-content/uploads/2022/05/244139658_329147822343621_3137199871258007173_n.png
ORGANIZER;CN="ARC CLUB DE MANDUEL":MAILTO:arcclubmanduel@gmail.com
END:VEVENT
END:VCALENDAR