BEGIN:VCALENDAR
VERSION:2.0
PRODID:-//CDTA30 - ECPv6.3.3.1//NONSGML v1.0//EN
CALSCALE:GREGORIAN
METHOD:PUBLISH
X-ORIGINAL-URL:https://www.cdta30.fr
X-WR-CALDESC:évènements pour CDTA30
REFRESH-INTERVAL;VALUE=DURATION:PT1H
X-Robots-Tag:noindex
X-PUBLISHED-TTL:PT1H
BEGIN:VTIMEZONE
TZID:Europe/Paris
BEGIN:DAYLIGHT
TZOFFSETFROM:+0100
TZOFFSETTO:+0200
TZNAME:CEST
DTSTART:20220327T010000
END:DAYLIGHT
BEGIN:STANDARD
TZOFFSETFROM:+0200
TZOFFSETTO:+0100
TZNAME:CET
DTSTART:20221030T010000
END:STANDARD
END:VTIMEZONE
BEGIN:VEVENT
DTSTART;TZID=Europe/Paris:20220605T080000
DTEND;TZID=Europe/Paris:20220605T170000
DTSTAMP:20260422T142835
CREATED:20220514T191634Z
LAST-MODIFIED:20220531T183042Z
UID:297-1654416000-1654448400@www.cdta30.fr
SUMMARY:APC -  TAE QUALIFICATIF CHAMPIONNAT DE FRANCE ET DEPARTEMENTAL
DESCRIPTION:MANDAT\n			\n			\n				\n				\n				\n				\n				\n				CONTACT
URL:https://www.cdta30.fr/event/apc-championnat-departemental-du-gard-tae/
LOCATION:LE CAILAR\, STADE JEAN GUY\, LE CAILAR\, 30740
CATEGORIES:TAE
END:VEVENT
END:VCALENDAR