BEGIN:VCALENDAR
VERSION:2.0
PRODID:-//CDTA30 - ECPv6.3.3.1//NONSGML v1.0//EN
CALSCALE:GREGORIAN
METHOD:PUBLISH
X-ORIGINAL-URL:https://www.cdta30.fr
X-WR-CALDESC:évènements pour CDTA30
REFRESH-INTERVAL;VALUE=DURATION:PT1H
X-Robots-Tag:noindex
X-PUBLISHED-TTL:PT1H
BEGIN:VTIMEZONE
TZID:Europe/Paris
BEGIN:DAYLIGHT
TZOFFSETFROM:+0100
TZOFFSETTO:+0200
TZNAME:CEST
DTSTART:20250330T010000
END:DAYLIGHT
BEGIN:STANDARD
TZOFFSETFROM:+0200
TZOFFSETTO:+0100
TZNAME:CET
DTSTART:20251026T010000
END:STANDARD
END:VTIMEZONE
BEGIN:VEVENT
DTSTART;TZID=Europe/Paris:20250111T123000
DTEND;TZID=Europe/Paris:20250111T180000
DTSTAMP:20260420T093054
CREATED:20241207T173142Z
LAST-MODIFIED:20241207T173618Z
UID:977-1736598600-1736618400@www.cdta30.fr
SUMMARY:Challenge Jeune 2025: 1ere manche
DESCRIPTION:la première manche du challenge départemental  jeunes  qui se déroulera à St Génies de Malgoirès le samedi 11 janvier 2025 ainsi que la liste des jeunes ayant franchi le seuil « As Découverte » lors d’une épreuve en 2024.\n\nA cette liste\, il faut ajouter :\n   – les U11 tirant en compétitions officielles la saison passée qui intègrent directement la catégorie As Découverte U13/U15.\n    – les jeunes ayant débuté la compétition officielle en 2024 ou 2025 sans passer le seuil lors d’une épreuve du challenge.\n\nMandat:  st genies CHAL jeunes 1ere manche 2025\nListe As découverte:  Liste As 2025
URL:https://www.cdta30.fr/event/challenge-jeune-2025-1ere-manche/
LOCATION:SAINT-GENIES-DE-MALGLOIRES\, France
CATEGORIES:Challenge jeune/ poussin
END:VEVENT
BEGIN:VEVENT
DTSTART;VALUE=DATE:20250112
DTEND;VALUE=DATE:20250113
DTSTAMP:20260420T093054
CREATED:20241207T173512Z
LAST-MODIFIED:20241207T174624Z
UID:981-1736640000-1736726399@www.cdta30.fr
SUMMARY:Concours Archers Saint Geniès de Malgoires
DESCRIPTION:Le mandat pour notre compétition du Dimanche 12 Janvier:  MANDAT 2025 ST GENIES
URL:https://www.cdta30.fr/event/concours-archers-saint-genies-de-malgoires/
LOCATION:SAINT-GENIES-DE-MALGLOIRES\, France
CATEGORIES:TAE,TIR INTERIEUR
ORGANIZER;CN="LES ARCHERS DE SAINT-GENIES-DE-MALGLOIRES":MAILTO:christian.jalabert3@wanadoo. fr
END:VEVENT
END:VCALENDAR