BEGIN:VCALENDAR
VERSION:2.0
PRODID:-//CDTA30 - ECPv6.3.3.1//NONSGML v1.0//EN
CALSCALE:GREGORIAN
METHOD:PUBLISH
X-ORIGINAL-URL:https://www.cdta30.fr
X-WR-CALDESC:évènements pour CDTA30
REFRESH-INTERVAL;VALUE=DURATION:PT1H
X-Robots-Tag:noindex
X-PUBLISHED-TTL:PT1H
BEGIN:VTIMEZONE
TZID:Europe/Paris
BEGIN:DAYLIGHT
TZOFFSETFROM:+0100
TZOFFSETTO:+0200
TZNAME:CEST
DTSTART:20240331T010000
END:DAYLIGHT
BEGIN:STANDARD
TZOFFSETFROM:+0200
TZOFFSETTO:+0100
TZNAME:CET
DTSTART:20241027T010000
END:STANDARD
END:VTIMEZONE
BEGIN:VEVENT
DTSTART;TZID=Europe/Paris:20240601T083000
DTEND;TZID=Europe/Paris:20240601T170000
DTSTAMP:20260420T202543
CREATED:20240504T205941Z
LAST-MODIFIED:20240504T205941Z
UID:765-1717230600-1717261200@www.cdta30.fr
SUMMARY:challenges Poussins et Jeunes 2024
DESCRIPTION:Le mandat des 3èmes manches\, des challenges Poussins et Jeunes 2024\, organisées par l’arc club de Manduel le 01 juin 2024.\nMandat Challenge MANDUEL 2024
URL:https://www.cdta30.fr/event/challenges-poussins-et-jeunes-2024/
LOCATION:Manduel\, ARC CLUB DE MANDUEL\, MANDUEL\, France
CATEGORIES:Challenge jeune/ poussin
END:VEVENT
BEGIN:VEVENT
DTSTART;TZID=Europe/Paris:20240609T080000
DTEND;TZID=Europe/Paris:20240609T170000
DTSTAMP:20260420T202543
CREATED:20240428T194821Z
LAST-MODIFIED:20240428T194821Z
UID:751-1717920000-1717952400@www.cdta30.fr
SUMMARY:TAE et Concours Finale DRE Occitanie
DESCRIPTION:L’ Arc Club Alésien organise la dernière manche de la division régionale excellence  le dimanche  09 juin 2024. \nQuelques places sont disponibles pour un TAEN avec classement scratch.\nAvis de concours 09 juin 2024 \n 
URL:https://www.cdta30.fr/event/tae-et-concours-finale-dre-occitanie/
LOCATION:ALES\, Complexe sportif les Vaupiannes\, Saint Privat des vieux
CATEGORIES:TAE
END:VEVENT
END:VCALENDAR